BEGIN:VCALENDAR
VERSION:2.0
PRODID:GIGPRESS 2.0 WORDPRESS PLUGIN
CALSCALE:GREGORIAN
X-WR-TIMEZONE:Etc/GMT
METHOD:PUBLISH
BEGIN:VTIMEZONE
TZID:GMT
BEGIN:STANDARD
DTSTART:20071028T010000
TZOFFSETTO:+0000
TZOFFSETFROM:+0000
END:STANDARD
END:VTIMEZONE
BEGIN:VEVENT
SUMMARY:Double Down Music at New Orleans Jazz & Heritage Festival
DESCRIPTION:: New Orleans Jazz & Heritage Festival. 
LOCATION:New Orleans Jazz & Heritage Festival\, New Orleans\, LA\, US
UID:20260421-21-adam@cosmosexschool.com
URL:https://doubledown-music.com
DTSTART;VALUE=DATE;TZID=GMT:20260421
DTEND;VALUE=DATE;TZID=GMT:20260503
DTSTAMP:20260424T021825Z
END:VEVENT
END:VCALENDAR